5.08000000000003
0.000000000000000
0.000000000000000
-5.08000000000004
584602.742767183
8069562.28517436
