5.07999999999999
0.000000000000000
0.000000000000000
-5.08000000000004
577474.691296497
8100646.37475281
