8.46666666666666
0.000000000000000
0.000000000000000
-8.46666666666659
535793.319632996
8016705.88464058
