12.7
0.000000000000000
0.000000000000000
-12.7
434815.546360433
8095555.93454468
