6.63226628956544
0.000000000000000
0.000000000000000
-6.63226628956551
513505.658363912
8075488.34075434
