6.35
0.000000000000000
0.000000000000000
-6.35000000000008
525953.092621946
8035092.1004737
