4.23333333333334
0.000000000000000
0.000000000000000
-4.2333333333333
511727.773832485
8026077.39745817
