4.23333333333334
0.000000000000000
0.000000000000000
-4.2333333333333
495788.04957442
8051333.49023236
