4.23333333333334
0.000000000000000
0.000000000000000
-4.2333333333333
495933.617832485
8075934.52584527
