4.234000000000000
0.000000000000000
0.000000000000000
-4.233000000000000
779051.651143099000000
1855422.222222220000000
