21.166000000000000
0.000000000000000
0.000000000000000
-21.164000000000000
711962.043177649000000
1893582.010582010000000
