4.234000000000000
0.000000000000000
0.000000000000000
-4.234000000000000
797832.345469941000000
1819292.972057580000000
