4.233000000000000
0.000000000000000
0.000000000000000
-4.234000000000000
824979.681679648000000
1878446.232006770000000
