25,400000000000000
0,000000000000000
0,000000000000000
-25,398000000000000
661696,723393447000000
3886750,761937010000000
