2,117000000000000
0,000000000000000
0,000000000000000
-2,117000000000000
441909,482150416000000
9149881,456392890000000
