0,254000000000000
0,000000000000000
0,000000000000000
-0,254000000000000
429982,097511427000000
9130189,709467700000000
