0,265000000000000
0,000000000000000
0,000000000000000
-0,265000000000000
431432,468220339000000
9132174,523305080000000
