0,635000000000000
0,000000000000000
0,000000000000000
-0,635000000000000
425794,920634921000000
9127580,317460320000000
