0,635000000000000
0,000000000000000
0,000000000000000
-0,635000000000000
422125,575488173000000
9127587,301587300000000
