0,635000000000000
0,000000000000000
0,000000000000000
-0,635000000000000
422491,982854421000000
9131150,476190480000000
